BEGIN:VCALENDAR
VERSION:2.0
PRODID:-//Miss Utility - ECPv6.15.20//NONSGML v1.0//EN
CALSCALE:GREGORIAN
METHOD:PUBLISH
X-WR-CALNAME:Miss Utility
X-ORIGINAL-URL:https://www.missutility.net
X-WR-CALDESC:Events for Miss Utility
REFRESH-INTERVAL;VALUE=DURATION:PT1H
X-Robots-Tag:noindex
X-PUBLISHED-TTL:PT1H
BEGIN:VTIMEZONE
TZID:America/New_York
BEGIN:DAYLIGHT
TZOFFSETFROM:-0500
TZOFFSETTO:-0400
TZNAME:EDT
DTSTART:20240310T070000
END:DAYLIGHT
BEGIN:STANDARD
TZOFFSETFROM:-0400
TZOFFSETTO:-0500
TZNAME:EST
DTSTART:20241103T060000
END:STANDARD
BEGIN:DAYLIGHT
TZOFFSETFROM:-0500
TZOFFSETTO:-0400
TZNAME:EDT
DTSTART:20250309T070000
END:DAYLIGHT
BEGIN:STANDARD
TZOFFSETFROM:-0400
TZOFFSETTO:-0500
TZNAME:EST
DTSTART:20251102T060000
END:STANDARD
BEGIN:DAYLIGHT
TZOFFSETFROM:-0500
TZOFFSETTO:-0400
TZNAME:EDT
DTSTART:20260308T070000
END:DAYLIGHT
BEGIN:STANDARD
TZOFFSETFROM:-0400
TZOFFSETTO:-0500
TZNAME:EST
DTSTART:20261101T060000
END:STANDARD
END:VTIMEZONE
BEGIN:VEVENT
DTSTART;TZID=America/New_York:20251224T080000
DTEND;TZID=America/New_York:20251224T170000
DTSTAMP:20260420T072144
CREATED:20241101T172624Z
LAST-MODIFIED:20241101T172624Z
UID:10000136-1766563200-1766595600@www.missutility.net
SUMMARY:Christmas Eve (DE Only)
DESCRIPTION:Christmas Eve is an observed holiday in Delaware  Only EMERGENCY TICKETS will be processed for response by the notified members on this holiday. \nAll other ticket types can be processed via ITIC\, the holiday will not be used when calculating ticket validity or expiration dates based on State and District laws. \nEMERGENCY LOCATE REQUESTS are processed for notified member response 24 hours a day\, 7 days a week using the following numbers: \n\nMaryland (Western Shore): 800-257-7777\nDC: 800-257-7777 or 202-265-7177\nMaryland (Eastern Shore): 800-441-8355\nDelaware: 800-282-8555
URL:https://www.missutility.net/event/christmas-eve-de-only-2/
CATEGORIES:Holidays
END:VEVENT
BEGIN:VEVENT
DTSTART;TZID=America/New_York:20251225T080000
DTEND;TZID=America/New_York:20251225T170000
DTSTAMP:20260420T072144
CREATED:20241101T172656Z
LAST-MODIFIED:20241101T172656Z
UID:10000137-1766649600-1766682000@www.missutility.net
SUMMARY:Christmas Day
DESCRIPTION:Christmas Day is an observed holiday in Delaware\, Maryland\, and Washington DC.  Only EMERGENCY TICKETS will be processed for response by the notified members on this holiday. \nAll other ticket types can be processed via ITIC\, the holiday will not be used when calculating ticket validity or expiration dates based on State and District laws. \nEMERGENCY LOCATE REQUESTS are processed for notified member response 24 hours a day\, 7 days a week using the following numbers: \n\nMaryland (Western Shore): 800-257-7777\nDC: 800-257-7777 or 202-265-7177\nMaryland (Eastern Shore): 800-441-8355\nDelaware: 800-282-8555
URL:https://www.missutility.net/event/christmas-day-2/
CATEGORIES:Holidays
END:VEVENT
BEGIN:VEVENT
DTSTART;TZID=America/New_York:20251231T080000
DTEND;TZID=America/New_York:20251231T170000
DTSTAMP:20260420T072144
CREATED:20241101T172727Z
LAST-MODIFIED:20241101T172727Z
UID:10000138-1767168000-1767200400@www.missutility.net
SUMMARY:New Years Eve (DE Only)
DESCRIPTION:New Years Eve is an observed holiday in Delaware  Only EMERGENCY TICKETS will be processed for response by the notified members on this holiday. \nAll other ticket types can be processed via ITIC\, the holiday will not be used when calculating ticket validity or expiration dates based on State and District laws. \nEMERGENCY LOCATE REQUESTS are processed for notified member response 24 hours a day\, 7 days a week using the following numbers: \n\nMaryland (Western Shore): 800-257-7777\nDC: 800-257-7777 or 202-265-7177\nMaryland (Eastern Shore): 800-441-8355\nDelaware: 800-282-8555
URL:https://www.missutility.net/event/new-years-eve-de-only-2/
CATEGORIES:Holidays
END:VEVENT
END:VCALENDAR